BEGIN:VCALENDAR
PRODID:-//HKUST Drupal Platform//EN
VERSION:2.0
BEGIN:VTIMEZONE
TZID:Asia/Hong_Kong
BEGIN:STANDARD
DTSTART:20071104T020000
TZOFFSETFROM:+0700
TZOFFSETTO:+0800
TZNAME:HKT
END:STANDARD
END:VTIMEZONE
BEGIN:VEVENT
DTSTAMP;TZID=Asia/Hong_Kong:20260420T185643
DTSTART;TZID=Asia/Hong_Kong:20241015T143000
DTEND;TZID=Asia/Hong_Kong:20241015T160000
LOCATION:Room 3598 (Lifts 27-28), Academic Building
SUMMARY:HUMA Seminar - 近代中國的書信指南研究 Letter-Writing Guides in Modern China
UID:1010
END:VEVENT
END:VCALENDAR