BEGIN:VCALENDAR
PRODID:-//HKUST Drupal Platform//EN
VERSION:2.0
BEGIN:VTIMEZONE
TZID:Asia/Hong_Kong
BEGIN:STANDARD
DTSTART:20071104T020000
TZOFFSETFROM:+0700
TZOFFSETTO:+0800
TZNAME:HKT
END:STANDARD
END:VTIMEZONE
BEGIN:VEVENT
DTSTAMP;TZID=Asia/Hong_Kong:20260422T022446
DTSTART;TZID=Asia/Hong_Kong:20241025T110000
DTEND;TZID=Asia/Hong_Kong:20241025T123000
LOCATION:Room 1410 (Lifts 25-26), 1/F Academic Building
SUMMARY:SOSC Seminar - Knowledge for Lineage: Queen, Keju, and Social Mobility in Tang China
UID:1012
END:VEVENT
END:VCALENDAR