BEGIN:VCALENDAR
PRODID:-//HKUST Drupal Platform//EN
VERSION:2.0
BEGIN:VTIMEZONE
TZID:Asia/Hong_Kong
BEGIN:STANDARD
DTSTART:20071104T020000
TZOFFSETFROM:+0700
TZOFFSETTO:+0800
TZNAME:HKT
END:STANDARD
END:VTIMEZONE
BEGIN:VEVENT
DTSTAMP;TZID=Asia/Hong_Kong:20260420T221706
DTSTART;TZID=Asia/Hong_Kong:20241209T143000
DTEND;TZID=Asia/Hong_Kong:19700101T080000
LOCATION:Room 3301 (Lifts 2, 17-18), 2/F Academic Building
SUMMARY:HUMA Thesis Presentation - From Factories to Handicrafts: The Artisanal Revival of Hong Kong\'s Leather Industry in a Globalized World
UID:1032
END:VEVENT
END:VCALENDAR