BEGIN:VCALENDAR
PRODID:-//HKUST Drupal Platform//EN
VERSION:2.0
BEGIN:VTIMEZONE
TZID:Asia/Hong_Kong
BEGIN:STANDARD
DTSTART:20071104T020000
TZOFFSETFROM:+0700
TZOFFSETTO:+0800
TZNAME:HKT
END:STANDARD
END:VTIMEZONE
BEGIN:VEVENT
DTSTAMP;TZID=Asia/Hong_Kong:20260425T034731
DTSTART;TZID=Asia/Hong_Kong:19700101T080000
DTEND;TZID=Asia/Hong_Kong:19700101T080000
LOCATION:香港科技大學李兆基校園盧家驄薈萃樓佳兆業集團演講廳（高研院演講廳）
SUMMARY:IAS Distinguished Lecture - 夏志清與「情迷中國」
UID:1103
END:VEVENT
END:VCALENDAR