BEGIN:VCALENDAR
PRODID:-//HKUST Drupal Platform//EN
VERSION:2.0
BEGIN:VTIMEZONE
TZID:Asia/Hong_Kong
BEGIN:STANDARD
DTSTART:20071104T020000
TZOFFSETFROM:+0700
TZOFFSETTO:+0800
TZNAME:HKT
END:STANDARD
END:VTIMEZONE
BEGIN:VEVENT
DTSTAMP;TZID=Asia/Hong_Kong:20260422T022445
DTSTART;TZID=Asia/Hong_Kong:20250930T023000
DTEND;TZID=Asia/Hong_Kong:20250930T160000
LOCATION:Room 1104 (Lift 19; near LT-A), 1/F Academic Building
SUMMARY:SOSC Seminar - Managers and the Cultural Transmission of Gender Norms
UID:1117
END:VEVENT
END:VCALENDAR