BEGIN:VCALENDAR
PRODID:-//HKUST Drupal Platform//EN
VERSION:2.0
BEGIN:VTIMEZONE
TZID:Asia/Hong_Kong
BEGIN:STANDARD
DTSTART:20071104T020000
TZOFFSETFROM:+0700
TZOFFSETTO:+0800
TZNAME:HKT
END:STANDARD
END:VTIMEZONE
BEGIN:VEVENT
DTSTAMP;TZID=Asia/Hong_Kong:20260423T143051
DTSTART;TZID=Asia/Hong_Kong:20260327T133000
DTEND;TZID=Asia/Hong_Kong:20260327T143000
LOCATION:Room 5403, 5/F (Lift 17/18), Academic Building
SUMMARY:Public Lecture - Identifying Discourse Continuities in “Unrelated” Ancient Chinese Texts with LLM
UID:1198
END:VEVENT
END:VCALENDAR