BEGIN:VCALENDAR
PRODID:-//HKUST Drupal Platform//EN
VERSION:2.0
BEGIN:VTIMEZONE
TZID:Asia/Hong_Kong
BEGIN:STANDARD
DTSTART:20071104T020000
TZOFFSETFROM:+0700
TZOFFSETTO:+0800
TZNAME:HKT
END:STANDARD
END:VTIMEZONE
BEGIN:VEVENT
DTSTAMP;TZID=Asia/Hong_Kong:20260420T044608
DTSTART;TZID=Asia/Hong_Kong:20260401T023000
DTEND;TZID=Asia/Hong_Kong:20260401T160000
LOCATION:Room 2408 (via lifts 17-18), 2/F Academic Building
SUMMARY:SOSC Seminar - Households and Kinship over the Life Cycle
UID:1202
END:VEVENT
END:VCALENDAR