BEGIN:VCALENDAR
PRODID:-//HKUST Drupal Platform//EN
VERSION:2.0
BEGIN:VTIMEZONE
TZID:Asia/Hong_Kong
BEGIN:STANDARD
DTSTART:20071104T020000
TZOFFSETFROM:+0700
TZOFFSETTO:+0800
TZNAME:HKT
END:STANDARD
END:VTIMEZONE
BEGIN:VEVENT
DTSTAMP;TZID=Asia/Hong_Kong:20260420T084056
DTSTART;TZID=Asia/Hong_Kong:20260424T000000
DTEND;TZID=Asia/Hong_Kong:20260424T235900
LOCATION:M+, West Kowloon Cultural District, 38 Museum Drive, Kowloon
SUMMARY:Visit TWO Exhibitions at M+ with HUMA: “Zao Wou-ki: Master Printmaker” & “Robert Rauschenberg and Asia”
UID:1208
END:VEVENT
END:VCALENDAR