BEGIN:VCALENDAR
PRODID:-//HKUST Drupal Platform//EN
VERSION:2.0
BEGIN:VTIMEZONE
TZID:Asia/Hong_Kong
BEGIN:STANDARD
DTSTART:20071104T020000
TZOFFSETFROM:+0700
TZOFFSETTO:+0800
TZNAME:HKT
END:STANDARD
END:VTIMEZONE
BEGIN:VEVENT
DTSTAMP;TZID=Asia/Hong_Kong:20260422T105029
DTSTART;TZID=Asia/Hong_Kong:20260509T140000
DTEND;TZID=Asia/Hong_Kong:19700101T080000
LOCATION:Room 5508 (Lifts 25-26), 5/F, Academic Building, Hong Kong University of Science and Technology (HKUST), Clear Water Bay, Hong Kong
SUMMARY:CEFC Roundtable - Perspectives on Chinese Development and Planning: A Dialogue Between Two Human Geographers 
UID:1214
END:VEVENT
END:VCALENDAR