BEGIN:VCALENDAR
PRODID:-//HKUST Drupal Platform//EN
VERSION:2.0
BEGIN:VTIMEZONE
TZID:Asia/Hong_Kong
BEGIN:STANDARD
DTSTART:20071104T020000
TZOFFSETFROM:+0700
TZOFFSETTO:+0800
TZNAME:HKT
END:STANDARD
END:VTIMEZONE
BEGIN:VEVENT
DTSTAMP;TZID=Asia/Hong_Kong:20260425T194803
DTSTART;TZID=Asia/Hong_Kong:20191025T160000
DTEND;TZID=Asia/Hong_Kong:20191025T180000
LOCATION:Kaisa Group Lecture Theater (IAS LT), Lo Ka Chung Building, Lee Shau Kee Campus, HKUST
SUMMARY:IAS Program on Chinese Creative Writing - 我的文學和思想之路: 從香港出發
UID:284
END:VEVENT
END:VCALENDAR