BEGIN:VCALENDAR
PRODID:-//HKUST Drupal Platform//EN
VERSION:2.0
BEGIN:VTIMEZONE
TZID:Asia/Hong_Kong
BEGIN:STANDARD
DTSTART:20071104T020000
TZOFFSETFROM:+0700
TZOFFSETTO:+0800
TZNAME:HKT
END:STANDARD
END:VTIMEZONE
BEGIN:VEVENT
DTSTAMP;TZID=Asia/Hong_Kong:20260425T005235
DTSTART;TZID=Asia/Hong_Kong:20190820T000000
DTEND;TZID=Asia/Hong_Kong:20190820T000000
LOCATION:TBC
SUMMARY:HUMA3102: Making Chamber Music A
UID:286
END:VEVENT
BEGIN:VEVENT
DTSTAMP;TZID=Asia/Hong_Kong:20260425T005235
DTSTART;TZID=Asia/Hong_Kong:20190821T000000
DTEND;TZID=Asia/Hong_Kong:20190821T000000
LOCATION:TBC
SUMMARY:HUMA3102: Making Chamber Music A
UID:286
END:VEVENT
BEGIN:VEVENT
DTSTAMP;TZID=Asia/Hong_Kong:20260425T005235
DTSTART;TZID=Asia/Hong_Kong:20190822T000000
DTEND;TZID=Asia/Hong_Kong:20190822T000000
LOCATION:TBC
SUMMARY:HUMA3102: Making Chamber Music A
UID:286
END:VEVENT
BEGIN:VEVENT
DTSTAMP;TZID=Asia/Hong_Kong:20260425T005235
DTSTART;TZID=Asia/Hong_Kong:20190823T000000
DTEND;TZID=Asia/Hong_Kong:20190823T000000
LOCATION:TBC
SUMMARY:HUMA3102: Making Chamber Music A
UID:286
END:VEVENT
BEGIN:VEVENT
DTSTAMP;TZID=Asia/Hong_Kong:20260425T005235
DTSTART;TZID=Asia/Hong_Kong:20190824T000000
DTEND;TZID=Asia/Hong_Kong:20190824T000000
LOCATION:TBC
SUMMARY:HUMA3102: Making Chamber Music A
UID:286
END:VEVENT
BEGIN:VEVENT
DTSTAMP;TZID=Asia/Hong_Kong:20260425T005235
DTSTART;TZID=Asia/Hong_Kong:20190825T000000
DTEND;TZID=Asia/Hong_Kong:20190825T000000
LOCATION:TBC
SUMMARY:HUMA3102: Making Chamber Music A
UID:286
END:VEVENT
BEGIN:VEVENT
DTSTAMP;TZID=Asia/Hong_Kong:20260425T005235
DTSTART;TZID=Asia/Hong_Kong:20190826T000000
DTEND;TZID=Asia/Hong_Kong:20190826T000000
LOCATION:TBC
SUMMARY:HUMA3102: Making Chamber Music A
UID:286
END:VEVENT
BEGIN:VEVENT
DTSTAMP;TZID=Asia/Hong_Kong:20260425T005235
DTSTART;TZID=Asia/Hong_Kong:20190827T000000
DTEND;TZID=Asia/Hong_Kong:20190827T000000
LOCATION:TBC
SUMMARY:HUMA3102: Making Chamber Music A
UID:286
END:VEVENT
BEGIN:VEVENT
DTSTAMP;TZID=Asia/Hong_Kong:20260425T005235
DTSTART;TZID=Asia/Hong_Kong:20190828T000000
DTEND;TZID=Asia/Hong_Kong:20190828T000000
LOCATION:TBC
SUMMARY:HUMA3102: Making Chamber Music A
UID:286
END:VEVENT
BEGIN:VEVENT
DTSTAMP;TZID=Asia/Hong_Kong:20260425T005235
DTSTART;TZID=Asia/Hong_Kong:20190829T000000
DTEND;TZID=Asia/Hong_Kong:20190829T000000
LOCATION:TBC
SUMMARY:HUMA3102: Making Chamber Music A
UID:286
END:VEVENT
BEGIN:VEVENT
DTSTAMP;TZID=Asia/Hong_Kong:20260425T005235
DTSTART;TZID=Asia/Hong_Kong:20190830T000000
DTEND;TZID=Asia/Hong_Kong:20190830T000000
LOCATION:TBC
SUMMARY:HUMA3102: Making Chamber Music A
UID:286
END:VEVENT
BEGIN:VEVENT
DTSTAMP;TZID=Asia/Hong_Kong:20260425T005235
DTSTART;TZID=Asia/Hong_Kong:20190831T000000
DTEND;TZID=Asia/Hong_Kong:20190831T000000
LOCATION:TBC
SUMMARY:HUMA3102: Making Chamber Music A
UID:286
END:VEVENT
BEGIN:VEVENT
DTSTAMP;TZID=Asia/Hong_Kong:20260425T005235
DTSTART;TZID=Asia/Hong_Kong:20190901T000000
DTEND;TZID=Asia/Hong_Kong:20190901T000000
LOCATION:TBC
SUMMARY:HUMA3102: Making Chamber Music A
UID:286
END:VEVENT
BEGIN:VEVENT
DTSTAMP;TZID=Asia/Hong_Kong:20260425T005235
DTSTART;TZID=Asia/Hong_Kong:20190902T000000
DTEND;TZID=Asia/Hong_Kong:20190902T000000
LOCATION:TBC
SUMMARY:HUMA3102: Making Chamber Music A
UID:286
END:VEVENT
BEGIN:VEVENT
DTSTAMP;TZID=Asia/Hong_Kong:20260425T005235
DTSTART;TZID=Asia/Hong_Kong:20190903T000000
DTEND;TZID=Asia/Hong_Kong:20190903T000000
LOCATION:TBC
SUMMARY:HUMA3102: Making Chamber Music A
UID:286
END:VEVENT
BEGIN:VEVENT
DTSTAMP;TZID=Asia/Hong_Kong:20260425T005235
DTSTART;TZID=Asia/Hong_Kong:20190904T000000
DTEND;TZID=Asia/Hong_Kong:20190904T000000
LOCATION:TBC
SUMMARY:HUMA3102: Making Chamber Music A
UID:286
END:VEVENT
BEGIN:VEVENT
DTSTAMP;TZID=Asia/Hong_Kong:20260425T005235
DTSTART;TZID=Asia/Hong_Kong:20190905T000000
DTEND;TZID=Asia/Hong_Kong:20190905T000000
LOCATION:TBC
SUMMARY:HUMA3102: Making Chamber Music A
UID:286
END:VEVENT
BEGIN:VEVENT
DTSTAMP;TZID=Asia/Hong_Kong:20260425T005235
DTSTART;TZID=Asia/Hong_Kong:20190906T000000
DTEND;TZID=Asia/Hong_Kong:20190906T000000
LOCATION:TBC
SUMMARY:HUMA3102: Making Chamber Music A
UID:286
END:VEVENT
END:VCALENDAR