BEGIN:VCALENDAR
PRODID:-//HKUST Drupal Platform//EN
VERSION:2.0
BEGIN:VTIMEZONE
TZID:Asia/Hong_Kong
BEGIN:STANDARD
DTSTART:20071104T020000
TZOFFSETFROM:+0700
TZOFFSETTO:+0800
TZNAME:HKT
END:STANDARD
END:VTIMEZONE
BEGIN:VEVENT
DTSTAMP;TZID=Asia/Hong_Kong:20260425T194803
DTSTART;TZID=Asia/Hong_Kong:20190321T160000
DTEND;TZID=Asia/Hong_Kong:20190321T180000
LOCATION:Citi Lecture Theater (LT-A), HKUST
SUMMARY:Dream of the Red Chamber: Dialogue between Liu Zaifu and Pai Hsien-yung
UID:293
END:VEVENT
END:VCALENDAR