BEGIN:VCALENDAR
PRODID:-//HKUST Drupal Platform//EN
VERSION:2.0
BEGIN:VTIMEZONE
TZID:Asia/Hong_Kong
BEGIN:STANDARD
DTSTART:20071104T020000
TZOFFSETFROM:+0700
TZOFFSETTO:+0800
TZNAME:HKT
END:STANDARD
END:VTIMEZONE
BEGIN:VEVENT
DTSTAMP;TZID=Asia/Hong_Kong:20260426T001000
DTSTART;TZID=Asia/Hong_Kong:20190302T160000
DTEND;TZID=Asia/Hong_Kong:20190302T170000
LOCATION:CMA Lecture Theater (LTL), Cheng Yu Tung Building
SUMMARY:HKUST Music Alive! - Trumpet Excursions - Guangyu Dong and Amy Sze@HKUST
UID:296
END:VEVENT
END:VCALENDAR