BEGIN:VCALENDAR
PRODID:-//HKUST Drupal Platform//EN
VERSION:2.0
BEGIN:VTIMEZONE
TZID:Asia/Hong_Kong
BEGIN:STANDARD
DTSTART:20071104T020000
TZOFFSETFROM:+0700
TZOFFSETTO:+0800
TZNAME:HKT
END:STANDARD
END:VTIMEZONE
BEGIN:VEVENT
DTSTAMP;TZID=Asia/Hong_Kong:20260425T194803
DTSTART;TZID=Asia/Hong_Kong:20181109T133000
DTEND;TZID=Asia/Hong_Kong:20181109T153000
LOCATION:Room 4621 (4/F via Lifts 31-32), HKUST
SUMMARY:Poetry Workshop
UID:300
END:VEVENT
END:VCALENDAR