BEGIN:VCALENDAR
PRODID:-//HKUST Drupal Platform//EN
VERSION:2.0
BEGIN:VTIMEZONE
TZID:Asia/Hong_Kong
BEGIN:STANDARD
DTSTART:20071104T020000
TZOFFSETFROM:+0700
TZOFFSETTO:+0800
TZNAME:HKT
END:STANDARD
END:VTIMEZONE
BEGIN:VEVENT
DTSTAMP;TZID=Asia/Hong_Kong:20260425T194804
DTSTART;TZID=Asia/Hong_Kong:20181105T200000
DTEND;TZID=Asia/Hong_Kong:20181105T213000
LOCATION:CMA Lecture Theater (LTL), Cheng Yu Tung Building
SUMMARY:HKUST Music Alive! - Leonard Bernstein: Anniversaries - Andrew Simon and Warren Lee@HKUST
UID:304
END:VEVENT
END:VCALENDAR