BEGIN:VCALENDAR
PRODID:-//HKUST Drupal Platform//EN
VERSION:2.0
BEGIN:VTIMEZONE
TZID:Asia/Hong_Kong
BEGIN:STANDARD
DTSTART:20071104T020000
TZOFFSETFROM:+0700
TZOFFSETTO:+0800
TZNAME:HKT
END:STANDARD
END:VTIMEZONE
BEGIN:VEVENT
DTSTAMP;TZID=Asia/Hong_Kong:20260425T034731
DTSTART;TZID=Asia/Hong_Kong:20210326T200000
DTEND;TZID=Asia/Hong_Kong:20210326T220000
LOCATION:LTL, HKUST Cheng Yu Tung Building
SUMMARY:Cosmopolis Festival 2021 - Cosmopolis Festival 2021Hong Kong Chinese Orchestra
UID:346
END:VEVENT
END:VCALENDAR