BEGIN:VCALENDAR
PRODID:-//HKUST Drupal Platform//EN
VERSION:2.0
BEGIN:VTIMEZONE
TZID:Asia/Hong_Kong
BEGIN:STANDARD
DTSTART:20071104T020000
TZOFFSETFROM:+0700
TZOFFSETTO:+0800
TZNAME:HKT
END:STANDARD
END:VTIMEZONE
BEGIN:VEVENT
DTSTAMP;TZID=Asia/Hong_Kong:20260425T005234
DTSTART;TZID=Asia/Hong_Kong:20210226T150000
DTEND;TZID=Asia/Hong_Kong:20210226T163000
LOCATION:Online
SUMMARY:Powerful CV & Cover Letter Writing Workshop & Basic LinkedIn Profile Building
UID:371
END:VEVENT
END:VCALENDAR