BEGIN:VCALENDAR
PRODID:-//HKUST Drupal Platform//EN
VERSION:2.0
BEGIN:VTIMEZONE
TZID:Asia/Hong_Kong
BEGIN:STANDARD
DTSTART:20071104T020000
TZOFFSETFROM:+0700
TZOFFSETTO:+0800
TZNAME:HKT
END:STANDARD
END:VTIMEZONE
BEGIN:VEVENT
DTSTAMP;TZID=Asia/Hong_Kong:20260425T194804
DTSTART;TZID=Asia/Hong_Kong:20210422T193000
DTEND;TZID=Asia/Hong_Kong:20210422T210000
LOCATION:CMA Lecture Theater (LTL), Cheng Yu Tung Building, HKUST
SUMMARY:Music Alive! - Solo Piano Recital with Rachel Cheung (A repeat performance by popular demand)
UID:380
END:VEVENT
END:VCALENDAR