BEGIN:VCALENDAR
PRODID:-//HKUST Drupal Platform//EN
VERSION:2.0
BEGIN:VTIMEZONE
TZID:Asia/Hong_Kong
BEGIN:STANDARD
DTSTART:20071104T020000
TZOFFSETFROM:+0700
TZOFFSETTO:+0800
TZNAME:HKT
END:STANDARD
END:VTIMEZONE
BEGIN:VEVENT
DTSTAMP;TZID=Asia/Hong_Kong:20260424T121848
DTSTART;TZID=Asia/Hong_Kong:20210507T190000
DTEND;TZID=Asia/Hong_Kong:20210507T200000
LOCATION:LTL, HKUST Cheng Yu Tung Building
SUMMARY:School of Humanities & Social Science - HUMA Music Course Showcase (Day 2)
UID:393
END:VEVENT
END:VCALENDAR