BEGIN:VCALENDAR
PRODID:-//HKUST Drupal Platform//EN
VERSION:2.0
BEGIN:VTIMEZONE
TZID:Asia/Hong_Kong
BEGIN:STANDARD
DTSTART:20071104T020000
TZOFFSETFROM:+0700
TZOFFSETTO:+0800
TZNAME:HKT
END:STANDARD
END:VTIMEZONE
BEGIN:VEVENT
DTSTAMP;TZID=Asia/Hong_Kong:20260424T172206
DTSTART;TZID=Asia/Hong_Kong:20210724T210000
DTEND;TZID=Asia/Hong_Kong:20210724T220000
LOCATION:Online
SUMMARY:Internship & Academic Sharing 2021
UID:582
END:VEVENT
END:VCALENDAR