BEGIN:VCALENDAR
PRODID:-//HKUST Drupal Platform//EN
VERSION:2.0
BEGIN:VTIMEZONE
TZID:Asia/Hong_Kong
BEGIN:STANDARD
DTSTART:20071104T020000
TZOFFSETFROM:+0700
TZOFFSETTO:+0800
TZNAME:HKT
END:STANDARD
END:VTIMEZONE
BEGIN:VEVENT
DTSTAMP;TZID=Asia/Hong_Kong:20260425T034731
DTSTART;TZID=Asia/Hong_Kong:20201211T140000
DTEND;TZID=Asia/Hong_Kong:19700101T080000
SUMMARY:Cicero and Wang Chong: On Divination, Philosophy, and Science (Friday 11 Dec 2020)
UID:6
END:VEVENT
END:VCALENDAR