BEGIN:VCALENDAR
PRODID:-//HKUST Drupal Platform//EN
VERSION:2.0
BEGIN:VTIMEZONE
TZID:Asia/Hong_Kong
BEGIN:STANDARD
DTSTART:20071104T020000
TZOFFSETFROM:+0700
TZOFFSETTO:+0800
TZNAME:HKT
END:STANDARD
END:VTIMEZONE
BEGIN:VEVENT
DTSTAMP;TZID=Asia/Hong_Kong:20260424T031531
DTSTART;TZID=Asia/Hong_Kong:20220301T000000
DTEND;TZID=Asia/Hong_Kong:20220301T000000
LOCATION:Shaw Auditorium, HKUST
SUMMARY:Cosmopolis Festival
UID:623
END:VEVENT
BEGIN:VEVENT
DTSTAMP;TZID=Asia/Hong_Kong:20260424T031531
DTSTART;TZID=Asia/Hong_Kong:20220302T000000
DTEND;TZID=Asia/Hong_Kong:20220302T000000
LOCATION:Shaw Auditorium, HKUST
SUMMARY:Cosmopolis Festival
UID:623
END:VEVENT
BEGIN:VEVENT
DTSTAMP;TZID=Asia/Hong_Kong:20260424T031531
DTSTART;TZID=Asia/Hong_Kong:20220303T000000
DTEND;TZID=Asia/Hong_Kong:20220303T000000
LOCATION:Shaw Auditorium, HKUST
SUMMARY:Cosmopolis Festival
UID:623
END:VEVENT
BEGIN:VEVENT
DTSTAMP;TZID=Asia/Hong_Kong:20260424T031531
DTSTART;TZID=Asia/Hong_Kong:20220304T000000
DTEND;TZID=Asia/Hong_Kong:20220304T000000
LOCATION:Shaw Auditorium, HKUST
SUMMARY:Cosmopolis Festival
UID:623
END:VEVENT
BEGIN:VEVENT
DTSTAMP;TZID=Asia/Hong_Kong:20260424T031531
DTSTART;TZID=Asia/Hong_Kong:20220305T000000
DTEND;TZID=Asia/Hong_Kong:20220305T000000
LOCATION:Shaw Auditorium, HKUST
SUMMARY:Cosmopolis Festival
UID:623
END:VEVENT
BEGIN:VEVENT
DTSTAMP;TZID=Asia/Hong_Kong:20260424T031531
DTSTART;TZID=Asia/Hong_Kong:20220306T000000
DTEND;TZID=Asia/Hong_Kong:20220306T000000
LOCATION:Shaw Auditorium, HKUST
SUMMARY:Cosmopolis Festival
UID:623
END:VEVENT
BEGIN:VEVENT
DTSTAMP;TZID=Asia/Hong_Kong:20260424T031531
DTSTART;TZID=Asia/Hong_Kong:20220307T000000
DTEND;TZID=Asia/Hong_Kong:20220307T000000
LOCATION:Shaw Auditorium, HKUST
SUMMARY:Cosmopolis Festival
UID:623
END:VEVENT
BEGIN:VEVENT
DTSTAMP;TZID=Asia/Hong_Kong:20260424T031531
DTSTART;TZID=Asia/Hong_Kong:20220308T000000
DTEND;TZID=Asia/Hong_Kong:20220308T000000
LOCATION:Shaw Auditorium, HKUST
SUMMARY:Cosmopolis Festival
UID:623
END:VEVENT
BEGIN:VEVENT
DTSTAMP;TZID=Asia/Hong_Kong:20260424T031531
DTSTART;TZID=Asia/Hong_Kong:20220309T000000
DTEND;TZID=Asia/Hong_Kong:20220309T000000
LOCATION:Shaw Auditorium, HKUST
SUMMARY:Cosmopolis Festival
UID:623
END:VEVENT
BEGIN:VEVENT
DTSTAMP;TZID=Asia/Hong_Kong:20260424T031531
DTSTART;TZID=Asia/Hong_Kong:20220310T000000
DTEND;TZID=Asia/Hong_Kong:20220310T000000
LOCATION:Shaw Auditorium, HKUST
SUMMARY:Cosmopolis Festival
UID:623
END:VEVENT
BEGIN:VEVENT
DTSTAMP;TZID=Asia/Hong_Kong:20260424T031531
DTSTART;TZID=Asia/Hong_Kong:20220311T000000
DTEND;TZID=Asia/Hong_Kong:20220311T000000
LOCATION:Shaw Auditorium, HKUST
SUMMARY:Cosmopolis Festival
UID:623
END:VEVENT
BEGIN:VEVENT
DTSTAMP;TZID=Asia/Hong_Kong:20260424T031531
DTSTART;TZID=Asia/Hong_Kong:20220312T000000
DTEND;TZID=Asia/Hong_Kong:20220312T000000
LOCATION:Shaw Auditorium, HKUST
SUMMARY:Cosmopolis Festival
UID:623
END:VEVENT
BEGIN:VEVENT
DTSTAMP;TZID=Asia/Hong_Kong:20260424T031531
DTSTART;TZID=Asia/Hong_Kong:20220313T000000
DTEND;TZID=Asia/Hong_Kong:20220313T000000
LOCATION:Shaw Auditorium, HKUST
SUMMARY:Cosmopolis Festival
UID:623
END:VEVENT
BEGIN:VEVENT
DTSTAMP;TZID=Asia/Hong_Kong:20260424T031531
DTSTART;TZID=Asia/Hong_Kong:20220314T000000
DTEND;TZID=Asia/Hong_Kong:20220314T000000
LOCATION:Shaw Auditorium, HKUST
SUMMARY:Cosmopolis Festival
UID:623
END:VEVENT
BEGIN:VEVENT
DTSTAMP;TZID=Asia/Hong_Kong:20260424T031531
DTSTART;TZID=Asia/Hong_Kong:20220315T000000
DTEND;TZID=Asia/Hong_Kong:20220315T000000
LOCATION:Shaw Auditorium, HKUST
SUMMARY:Cosmopolis Festival
UID:623
END:VEVENT
BEGIN:VEVENT
DTSTAMP;TZID=Asia/Hong_Kong:20260424T031531
DTSTART;TZID=Asia/Hong_Kong:20220316T000000
DTEND;TZID=Asia/Hong_Kong:20220316T000000
LOCATION:Shaw Auditorium, HKUST
SUMMARY:Cosmopolis Festival
UID:623
END:VEVENT
BEGIN:VEVENT
DTSTAMP;TZID=Asia/Hong_Kong:20260424T031531
DTSTART;TZID=Asia/Hong_Kong:20220317T000000
DTEND;TZID=Asia/Hong_Kong:20220317T000000
LOCATION:Shaw Auditorium, HKUST
SUMMARY:Cosmopolis Festival
UID:623
END:VEVENT
BEGIN:VEVENT
DTSTAMP;TZID=Asia/Hong_Kong:20260424T031531
DTSTART;TZID=Asia/Hong_Kong:20220318T000000
DTEND;TZID=Asia/Hong_Kong:20220318T000000
LOCATION:Shaw Auditorium, HKUST
SUMMARY:Cosmopolis Festival
UID:623
END:VEVENT
BEGIN:VEVENT
DTSTAMP;TZID=Asia/Hong_Kong:20260424T031531
DTSTART;TZID=Asia/Hong_Kong:20220319T000000
DTEND;TZID=Asia/Hong_Kong:20220319T000000
LOCATION:Shaw Auditorium, HKUST
SUMMARY:Cosmopolis Festival
UID:623
END:VEVENT
BEGIN:VEVENT
DTSTAMP;TZID=Asia/Hong_Kong:20260424T031531
DTSTART;TZID=Asia/Hong_Kong:20220320T000000
DTEND;TZID=Asia/Hong_Kong:20220320T000000
LOCATION:Shaw Auditorium, HKUST
SUMMARY:Cosmopolis Festival
UID:623
END:VEVENT
BEGIN:VEVENT
DTSTAMP;TZID=Asia/Hong_Kong:20260424T031531
DTSTART;TZID=Asia/Hong_Kong:20220321T000000
DTEND;TZID=Asia/Hong_Kong:20220321T000000
LOCATION:Shaw Auditorium, HKUST
SUMMARY:Cosmopolis Festival
UID:623
END:VEVENT
BEGIN:VEVENT
DTSTAMP;TZID=Asia/Hong_Kong:20260424T031531
DTSTART;TZID=Asia/Hong_Kong:20220322T000000
DTEND;TZID=Asia/Hong_Kong:20220322T000000
LOCATION:Shaw Auditorium, HKUST
SUMMARY:Cosmopolis Festival
UID:623
END:VEVENT
BEGIN:VEVENT
DTSTAMP;TZID=Asia/Hong_Kong:20260424T031531
DTSTART;TZID=Asia/Hong_Kong:20220323T000000
DTEND;TZID=Asia/Hong_Kong:20220323T000000
LOCATION:Shaw Auditorium, HKUST
SUMMARY:Cosmopolis Festival
UID:623
END:VEVENT
BEGIN:VEVENT
DTSTAMP;TZID=Asia/Hong_Kong:20260424T031531
DTSTART;TZID=Asia/Hong_Kong:20220324T000000
DTEND;TZID=Asia/Hong_Kong:20220324T000000
LOCATION:Shaw Auditorium, HKUST
SUMMARY:Cosmopolis Festival
UID:623
END:VEVENT
BEGIN:VEVENT
DTSTAMP;TZID=Asia/Hong_Kong:20260424T031531
DTSTART;TZID=Asia/Hong_Kong:20220325T000000
DTEND;TZID=Asia/Hong_Kong:20220325T000000
LOCATION:Shaw Auditorium, HKUST
SUMMARY:Cosmopolis Festival
UID:623
END:VEVENT
BEGIN:VEVENT
DTSTAMP;TZID=Asia/Hong_Kong:20260424T031531
DTSTART;TZID=Asia/Hong_Kong:20220326T000000
DTEND;TZID=Asia/Hong_Kong:20220326T000000
LOCATION:Shaw Auditorium, HKUST
SUMMARY:Cosmopolis Festival
UID:623
END:VEVENT
BEGIN:VEVENT
DTSTAMP;TZID=Asia/Hong_Kong:20260424T031531
DTSTART;TZID=Asia/Hong_Kong:20220327T000000
DTEND;TZID=Asia/Hong_Kong:20220327T000000
LOCATION:Shaw Auditorium, HKUST
SUMMARY:Cosmopolis Festival
UID:623
END:VEVENT
BEGIN:VEVENT
DTSTAMP;TZID=Asia/Hong_Kong:20260424T031531
DTSTART;TZID=Asia/Hong_Kong:20220328T000000
DTEND;TZID=Asia/Hong_Kong:20220328T000000
LOCATION:Shaw Auditorium, HKUST
SUMMARY:Cosmopolis Festival
UID:623
END:VEVENT
BEGIN:VEVENT
DTSTAMP;TZID=Asia/Hong_Kong:20260424T031531
DTSTART;TZID=Asia/Hong_Kong:20220329T000000
DTEND;TZID=Asia/Hong_Kong:20220329T000000
LOCATION:Shaw Auditorium, HKUST
SUMMARY:Cosmopolis Festival
UID:623
END:VEVENT
BEGIN:VEVENT
DTSTAMP;TZID=Asia/Hong_Kong:20260424T031531
DTSTART;TZID=Asia/Hong_Kong:20220330T000000
DTEND;TZID=Asia/Hong_Kong:20220330T000000
LOCATION:Shaw Auditorium, HKUST
SUMMARY:Cosmopolis Festival
UID:623
END:VEVENT
BEGIN:VEVENT
DTSTAMP;TZID=Asia/Hong_Kong:20260424T031531
DTSTART;TZID=Asia/Hong_Kong:20220331T000000
DTEND;TZID=Asia/Hong_Kong:20220331T000000
LOCATION:Shaw Auditorium, HKUST
SUMMARY:Cosmopolis Festival
UID:623
END:VEVENT
BEGIN:VEVENT
DTSTAMP;TZID=Asia/Hong_Kong:20260424T031531
DTSTART;TZID=Asia/Hong_Kong:20220401T000000
DTEND;TZID=Asia/Hong_Kong:20220401T000000
LOCATION:Shaw Auditorium, HKUST
SUMMARY:Cosmopolis Festival
UID:623
END:VEVENT
BEGIN:VEVENT
DTSTAMP;TZID=Asia/Hong_Kong:20260424T031531
DTSTART;TZID=Asia/Hong_Kong:20220402T000000
DTEND;TZID=Asia/Hong_Kong:20220402T000000
LOCATION:Shaw Auditorium, HKUST
SUMMARY:Cosmopolis Festival
UID:623
END:VEVENT
BEGIN:VEVENT
DTSTAMP;TZID=Asia/Hong_Kong:20260424T031531
DTSTART;TZID=Asia/Hong_Kong:20220403T000000
DTEND;TZID=Asia/Hong_Kong:20220403T000000
LOCATION:Shaw Auditorium, HKUST
SUMMARY:Cosmopolis Festival
UID:623
END:VEVENT
BEGIN:VEVENT
DTSTAMP;TZID=Asia/Hong_Kong:20260424T031531
DTSTART;TZID=Asia/Hong_Kong:20220404T000000
DTEND;TZID=Asia/Hong_Kong:20220404T000000
LOCATION:Shaw Auditorium, HKUST
SUMMARY:Cosmopolis Festival
UID:623
END:VEVENT
BEGIN:VEVENT
DTSTAMP;TZID=Asia/Hong_Kong:20260424T031531
DTSTART;TZID=Asia/Hong_Kong:20220405T000000
DTEND;TZID=Asia/Hong_Kong:20220405T000000
LOCATION:Shaw Auditorium, HKUST
SUMMARY:Cosmopolis Festival
UID:623
END:VEVENT
BEGIN:VEVENT
DTSTAMP;TZID=Asia/Hong_Kong:20260424T031531
DTSTART;TZID=Asia/Hong_Kong:20220406T000000
DTEND;TZID=Asia/Hong_Kong:20220406T000000
LOCATION:Shaw Auditorium, HKUST
SUMMARY:Cosmopolis Festival
UID:623
END:VEVENT
BEGIN:VEVENT
DTSTAMP;TZID=Asia/Hong_Kong:20260424T031531
DTSTART;TZID=Asia/Hong_Kong:20220407T000000
DTEND;TZID=Asia/Hong_Kong:20220407T000000
LOCATION:Shaw Auditorium, HKUST
SUMMARY:Cosmopolis Festival
UID:623
END:VEVENT
BEGIN:VEVENT
DTSTAMP;TZID=Asia/Hong_Kong:20260424T031531
DTSTART;TZID=Asia/Hong_Kong:20220408T000000
DTEND;TZID=Asia/Hong_Kong:20220408T000000
LOCATION:Shaw Auditorium, HKUST
SUMMARY:Cosmopolis Festival
UID:623
END:VEVENT
BEGIN:VEVENT
DTSTAMP;TZID=Asia/Hong_Kong:20260424T031531
DTSTART;TZID=Asia/Hong_Kong:20220409T000000
DTEND;TZID=Asia/Hong_Kong:20220409T000000
LOCATION:Shaw Auditorium, HKUST
SUMMARY:Cosmopolis Festival
UID:623
END:VEVENT
BEGIN:VEVENT
DTSTAMP;TZID=Asia/Hong_Kong:20260424T031531
DTSTART;TZID=Asia/Hong_Kong:20220410T000000
DTEND;TZID=Asia/Hong_Kong:20220410T000000
LOCATION:Shaw Auditorium, HKUST
SUMMARY:Cosmopolis Festival
UID:623
END:VEVENT
BEGIN:VEVENT
DTSTAMP;TZID=Asia/Hong_Kong:20260424T031531
DTSTART;TZID=Asia/Hong_Kong:20220411T000000
DTEND;TZID=Asia/Hong_Kong:20220411T000000
LOCATION:Shaw Auditorium, HKUST
SUMMARY:Cosmopolis Festival
UID:623
END:VEVENT
BEGIN:VEVENT
DTSTAMP;TZID=Asia/Hong_Kong:20260424T031531
DTSTART;TZID=Asia/Hong_Kong:20220412T000000
DTEND;TZID=Asia/Hong_Kong:20220412T000000
LOCATION:Shaw Auditorium, HKUST
SUMMARY:Cosmopolis Festival
UID:623
END:VEVENT
BEGIN:VEVENT
DTSTAMP;TZID=Asia/Hong_Kong:20260424T031531
DTSTART;TZID=Asia/Hong_Kong:20220413T000000
DTEND;TZID=Asia/Hong_Kong:20220413T000000
LOCATION:Shaw Auditorium, HKUST
SUMMARY:Cosmopolis Festival
UID:623
END:VEVENT
BEGIN:VEVENT
DTSTAMP;TZID=Asia/Hong_Kong:20260424T031531
DTSTART;TZID=Asia/Hong_Kong:20220414T000000
DTEND;TZID=Asia/Hong_Kong:20220414T000000
LOCATION:Shaw Auditorium, HKUST
SUMMARY:Cosmopolis Festival
UID:623
END:VEVENT
BEGIN:VEVENT
DTSTAMP;TZID=Asia/Hong_Kong:20260424T031531
DTSTART;TZID=Asia/Hong_Kong:20220415T000000
DTEND;TZID=Asia/Hong_Kong:20220415T000000
LOCATION:Shaw Auditorium, HKUST
SUMMARY:Cosmopolis Festival
UID:623
END:VEVENT
BEGIN:VEVENT
DTSTAMP;TZID=Asia/Hong_Kong:20260424T031531
DTSTART;TZID=Asia/Hong_Kong:20220416T000000
DTEND;TZID=Asia/Hong_Kong:20220416T000000
LOCATION:Shaw Auditorium, HKUST
SUMMARY:Cosmopolis Festival
UID:623
END:VEVENT
BEGIN:VEVENT
DTSTAMP;TZID=Asia/Hong_Kong:20260424T031531
DTSTART;TZID=Asia/Hong_Kong:20220417T000000
DTEND;TZID=Asia/Hong_Kong:20220417T000000
LOCATION:Shaw Auditorium, HKUST
SUMMARY:Cosmopolis Festival
UID:623
END:VEVENT
BEGIN:VEVENT
DTSTAMP;TZID=Asia/Hong_Kong:20260424T031531
DTSTART;TZID=Asia/Hong_Kong:20220418T000000
DTEND;TZID=Asia/Hong_Kong:20220418T000000
LOCATION:Shaw Auditorium, HKUST
SUMMARY:Cosmopolis Festival
UID:623
END:VEVENT
BEGIN:VEVENT
DTSTAMP;TZID=Asia/Hong_Kong:20260424T031531
DTSTART;TZID=Asia/Hong_Kong:20220419T000000
DTEND;TZID=Asia/Hong_Kong:20220419T000000
LOCATION:Shaw Auditorium, HKUST
SUMMARY:Cosmopolis Festival
UID:623
END:VEVENT
BEGIN:VEVENT
DTSTAMP;TZID=Asia/Hong_Kong:20260424T031531
DTSTART;TZID=Asia/Hong_Kong:20220420T000000
DTEND;TZID=Asia/Hong_Kong:20220420T000000
LOCATION:Shaw Auditorium, HKUST
SUMMARY:Cosmopolis Festival
UID:623
END:VEVENT
BEGIN:VEVENT
DTSTAMP;TZID=Asia/Hong_Kong:20260424T031531
DTSTART;TZID=Asia/Hong_Kong:20220421T000000
DTEND;TZID=Asia/Hong_Kong:20220421T000000
LOCATION:Shaw Auditorium, HKUST
SUMMARY:Cosmopolis Festival
UID:623
END:VEVENT
BEGIN:VEVENT
DTSTAMP;TZID=Asia/Hong_Kong:20260424T031531
DTSTART;TZID=Asia/Hong_Kong:20220422T000000
DTEND;TZID=Asia/Hong_Kong:20220422T000000
LOCATION:Shaw Auditorium, HKUST
SUMMARY:Cosmopolis Festival
UID:623
END:VEVENT
BEGIN:VEVENT
DTSTAMP;TZID=Asia/Hong_Kong:20260424T031531
DTSTART;TZID=Asia/Hong_Kong:20220423T000000
DTEND;TZID=Asia/Hong_Kong:20220423T000000
LOCATION:Shaw Auditorium, HKUST
SUMMARY:Cosmopolis Festival
UID:623
END:VEVENT
BEGIN:VEVENT
DTSTAMP;TZID=Asia/Hong_Kong:20260424T031531
DTSTART;TZID=Asia/Hong_Kong:20220424T000000
DTEND;TZID=Asia/Hong_Kong:20220424T000000
LOCATION:Shaw Auditorium, HKUST
SUMMARY:Cosmopolis Festival
UID:623
END:VEVENT
BEGIN:VEVENT
DTSTAMP;TZID=Asia/Hong_Kong:20260424T031531
DTSTART;TZID=Asia/Hong_Kong:20220425T000000
DTEND;TZID=Asia/Hong_Kong:20220425T000000
LOCATION:Shaw Auditorium, HKUST
SUMMARY:Cosmopolis Festival
UID:623
END:VEVENT
BEGIN:VEVENT
DTSTAMP;TZID=Asia/Hong_Kong:20260424T031531
DTSTART;TZID=Asia/Hong_Kong:20220426T000000
DTEND;TZID=Asia/Hong_Kong:20220426T000000
LOCATION:Shaw Auditorium, HKUST
SUMMARY:Cosmopolis Festival
UID:623
END:VEVENT
BEGIN:VEVENT
DTSTAMP;TZID=Asia/Hong_Kong:20260424T031531
DTSTART;TZID=Asia/Hong_Kong:20220427T000000
DTEND;TZID=Asia/Hong_Kong:20220427T000000
LOCATION:Shaw Auditorium, HKUST
SUMMARY:Cosmopolis Festival
UID:623
END:VEVENT
BEGIN:VEVENT
DTSTAMP;TZID=Asia/Hong_Kong:20260424T031531
DTSTART;TZID=Asia/Hong_Kong:20220428T000000
DTEND;TZID=Asia/Hong_Kong:20220428T000000
LOCATION:Shaw Auditorium, HKUST
SUMMARY:Cosmopolis Festival
UID:623
END:VEVENT
BEGIN:VEVENT
DTSTAMP;TZID=Asia/Hong_Kong:20260424T031531
DTSTART;TZID=Asia/Hong_Kong:20220429T000000
DTEND;TZID=Asia/Hong_Kong:20220429T000000
LOCATION:Shaw Auditorium, HKUST
SUMMARY:Cosmopolis Festival
UID:623
END:VEVENT
BEGIN:VEVENT
DTSTAMP;TZID=Asia/Hong_Kong:20260424T031531
DTSTART;TZID=Asia/Hong_Kong:20220430T000000
DTEND;TZID=Asia/Hong_Kong:20220430T000000
LOCATION:Shaw Auditorium, HKUST
SUMMARY:Cosmopolis Festival
UID:623
END:VEVENT
BEGIN:VEVENT
DTSTAMP;TZID=Asia/Hong_Kong:20260424T031531
DTSTART;TZID=Asia/Hong_Kong:20220501T000000
DTEND;TZID=Asia/Hong_Kong:20220501T000000
LOCATION:Shaw Auditorium, HKUST
SUMMARY:Cosmopolis Festival
UID:623
END:VEVENT
BEGIN:VEVENT
DTSTAMP;TZID=Asia/Hong_Kong:20260424T031531
DTSTART;TZID=Asia/Hong_Kong:20220502T000000
DTEND;TZID=Asia/Hong_Kong:20220502T000000
LOCATION:Shaw Auditorium, HKUST
SUMMARY:Cosmopolis Festival
UID:623
END:VEVENT
BEGIN:VEVENT
DTSTAMP;TZID=Asia/Hong_Kong:20260424T031531
DTSTART;TZID=Asia/Hong_Kong:20220503T000000
DTEND;TZID=Asia/Hong_Kong:20220503T000000
LOCATION:Shaw Auditorium, HKUST
SUMMARY:Cosmopolis Festival
UID:623
END:VEVENT
BEGIN:VEVENT
DTSTAMP;TZID=Asia/Hong_Kong:20260424T031531
DTSTART;TZID=Asia/Hong_Kong:20220504T000000
DTEND;TZID=Asia/Hong_Kong:20220504T000000
LOCATION:Shaw Auditorium, HKUST
SUMMARY:Cosmopolis Festival
UID:623
END:VEVENT
BEGIN:VEVENT
DTSTAMP;TZID=Asia/Hong_Kong:20260424T031531
DTSTART;TZID=Asia/Hong_Kong:20220505T000000
DTEND;TZID=Asia/Hong_Kong:20220505T000000
LOCATION:Shaw Auditorium, HKUST
SUMMARY:Cosmopolis Festival
UID:623
END:VEVENT
BEGIN:VEVENT
DTSTAMP;TZID=Asia/Hong_Kong:20260424T031531
DTSTART;TZID=Asia/Hong_Kong:20220506T000000
DTEND;TZID=Asia/Hong_Kong:20220506T000000
LOCATION:Shaw Auditorium, HKUST
SUMMARY:Cosmopolis Festival
UID:623
END:VEVENT
BEGIN:VEVENT
DTSTAMP;TZID=Asia/Hong_Kong:20260424T031531
DTSTART;TZID=Asia/Hong_Kong:20220507T000000
DTEND;TZID=Asia/Hong_Kong:20220507T000000
LOCATION:Shaw Auditorium, HKUST
SUMMARY:Cosmopolis Festival
UID:623
END:VEVENT
BEGIN:VEVENT
DTSTAMP;TZID=Asia/Hong_Kong:20260424T031531
DTSTART;TZID=Asia/Hong_Kong:20220508T000000
DTEND;TZID=Asia/Hong_Kong:20220508T000000
LOCATION:Shaw Auditorium, HKUST
SUMMARY:Cosmopolis Festival
UID:623
END:VEVENT
BEGIN:VEVENT
DTSTAMP;TZID=Asia/Hong_Kong:20260424T031531
DTSTART;TZID=Asia/Hong_Kong:20220509T000000
DTEND;TZID=Asia/Hong_Kong:20220509T000000
LOCATION:Shaw Auditorium, HKUST
SUMMARY:Cosmopolis Festival
UID:623
END:VEVENT
BEGIN:VEVENT
DTSTAMP;TZID=Asia/Hong_Kong:20260424T031531
DTSTART;TZID=Asia/Hong_Kong:20220510T000000
DTEND;TZID=Asia/Hong_Kong:20220510T000000
LOCATION:Shaw Auditorium, HKUST
SUMMARY:Cosmopolis Festival
UID:623
END:VEVENT
BEGIN:VEVENT
DTSTAMP;TZID=Asia/Hong_Kong:20260424T031531
DTSTART;TZID=Asia/Hong_Kong:20220511T000000
DTEND;TZID=Asia/Hong_Kong:20220511T000000
LOCATION:Shaw Auditorium, HKUST
SUMMARY:Cosmopolis Festival
UID:623
END:VEVENT
BEGIN:VEVENT
DTSTAMP;TZID=Asia/Hong_Kong:20260424T031531
DTSTART;TZID=Asia/Hong_Kong:20220512T000000
DTEND;TZID=Asia/Hong_Kong:20220512T000000
LOCATION:Shaw Auditorium, HKUST
SUMMARY:Cosmopolis Festival
UID:623
END:VEVENT
BEGIN:VEVENT
DTSTAMP;TZID=Asia/Hong_Kong:20260424T031531
DTSTART;TZID=Asia/Hong_Kong:20220513T000000
DTEND;TZID=Asia/Hong_Kong:20220513T000000
LOCATION:Shaw Auditorium, HKUST
SUMMARY:Cosmopolis Festival
UID:623
END:VEVENT
BEGIN:VEVENT
DTSTAMP;TZID=Asia/Hong_Kong:20260424T031531
DTSTART;TZID=Asia/Hong_Kong:20220514T000000
DTEND;TZID=Asia/Hong_Kong:20220514T000000
LOCATION:Shaw Auditorium, HKUST
SUMMARY:Cosmopolis Festival
UID:623
END:VEVENT
BEGIN:VEVENT
DTSTAMP;TZID=Asia/Hong_Kong:20260424T031531
DTSTART;TZID=Asia/Hong_Kong:20220515T000000
DTEND;TZID=Asia/Hong_Kong:20220515T000000
LOCATION:Shaw Auditorium, HKUST
SUMMARY:Cosmopolis Festival
UID:623
END:VEVENT
BEGIN:VEVENT
DTSTAMP;TZID=Asia/Hong_Kong:20260424T031531
DTSTART;TZID=Asia/Hong_Kong:20220516T000000
DTEND;TZID=Asia/Hong_Kong:20220516T000000
LOCATION:Shaw Auditorium, HKUST
SUMMARY:Cosmopolis Festival
UID:623
END:VEVENT
BEGIN:VEVENT
DTSTAMP;TZID=Asia/Hong_Kong:20260424T031531
DTSTART;TZID=Asia/Hong_Kong:20220517T000000
DTEND;TZID=Asia/Hong_Kong:20220517T000000
LOCATION:Shaw Auditorium, HKUST
SUMMARY:Cosmopolis Festival
UID:623
END:VEVENT
BEGIN:VEVENT
DTSTAMP;TZID=Asia/Hong_Kong:20260424T031531
DTSTART;TZID=Asia/Hong_Kong:20220518T000000
DTEND;TZID=Asia/Hong_Kong:20220518T000000
LOCATION:Shaw Auditorium, HKUST
SUMMARY:Cosmopolis Festival
UID:623
END:VEVENT
BEGIN:VEVENT
DTSTAMP;TZID=Asia/Hong_Kong:20260424T031531
DTSTART;TZID=Asia/Hong_Kong:20220519T000000
DTEND;TZID=Asia/Hong_Kong:20220519T000000
LOCATION:Shaw Auditorium, HKUST
SUMMARY:Cosmopolis Festival
UID:623
END:VEVENT
BEGIN:VEVENT
DTSTAMP;TZID=Asia/Hong_Kong:20260424T031531
DTSTART;TZID=Asia/Hong_Kong:20220520T000000
DTEND;TZID=Asia/Hong_Kong:20220520T000000
LOCATION:Shaw Auditorium, HKUST
SUMMARY:Cosmopolis Festival
UID:623
END:VEVENT
BEGIN:VEVENT
DTSTAMP;TZID=Asia/Hong_Kong:20260424T031531
DTSTART;TZID=Asia/Hong_Kong:20220521T000000
DTEND;TZID=Asia/Hong_Kong:20220521T000000
LOCATION:Shaw Auditorium, HKUST
SUMMARY:Cosmopolis Festival
UID:623
END:VEVENT
BEGIN:VEVENT
DTSTAMP;TZID=Asia/Hong_Kong:20260424T031531
DTSTART;TZID=Asia/Hong_Kong:20220522T000000
DTEND;TZID=Asia/Hong_Kong:20220522T000000
LOCATION:Shaw Auditorium, HKUST
SUMMARY:Cosmopolis Festival
UID:623
END:VEVENT
BEGIN:VEVENT
DTSTAMP;TZID=Asia/Hong_Kong:20260424T031531
DTSTART;TZID=Asia/Hong_Kong:20220523T000000
DTEND;TZID=Asia/Hong_Kong:20220523T000000
LOCATION:Shaw Auditorium, HKUST
SUMMARY:Cosmopolis Festival
UID:623
END:VEVENT
BEGIN:VEVENT
DTSTAMP;TZID=Asia/Hong_Kong:20260424T031531
DTSTART;TZID=Asia/Hong_Kong:20220524T000000
DTEND;TZID=Asia/Hong_Kong:20220524T000000
LOCATION:Shaw Auditorium, HKUST
SUMMARY:Cosmopolis Festival
UID:623
END:VEVENT
BEGIN:VEVENT
DTSTAMP;TZID=Asia/Hong_Kong:20260424T031531
DTSTART;TZID=Asia/Hong_Kong:20220525T000000
DTEND;TZID=Asia/Hong_Kong:20220525T000000
LOCATION:Shaw Auditorium, HKUST
SUMMARY:Cosmopolis Festival
UID:623
END:VEVENT
BEGIN:VEVENT
DTSTAMP;TZID=Asia/Hong_Kong:20260424T031531
DTSTART;TZID=Asia/Hong_Kong:20220526T000000
DTEND;TZID=Asia/Hong_Kong:20220526T000000
LOCATION:Shaw Auditorium, HKUST
SUMMARY:Cosmopolis Festival
UID:623
END:VEVENT
BEGIN:VEVENT
DTSTAMP;TZID=Asia/Hong_Kong:20260424T031531
DTSTART;TZID=Asia/Hong_Kong:20220527T000000
DTEND;TZID=Asia/Hong_Kong:20220527T000000
LOCATION:Shaw Auditorium, HKUST
SUMMARY:Cosmopolis Festival
UID:623
END:VEVENT
BEGIN:VEVENT
DTSTAMP;TZID=Asia/Hong_Kong:20260424T031531
DTSTART;TZID=Asia/Hong_Kong:20220528T000000
DTEND;TZID=Asia/Hong_Kong:20220528T000000
LOCATION:Shaw Auditorium, HKUST
SUMMARY:Cosmopolis Festival
UID:623
END:VEVENT
BEGIN:VEVENT
DTSTAMP;TZID=Asia/Hong_Kong:20260424T031531
DTSTART;TZID=Asia/Hong_Kong:20220529T000000
DTEND;TZID=Asia/Hong_Kong:20220529T000000
LOCATION:Shaw Auditorium, HKUST
SUMMARY:Cosmopolis Festival
UID:623
END:VEVENT
BEGIN:VEVENT
DTSTAMP;TZID=Asia/Hong_Kong:20260424T031531
DTSTART;TZID=Asia/Hong_Kong:20220530T000000
DTEND;TZID=Asia/Hong_Kong:20220530T000000
LOCATION:Shaw Auditorium, HKUST
SUMMARY:Cosmopolis Festival
UID:623
END:VEVENT
BEGIN:VEVENT
DTSTAMP;TZID=Asia/Hong_Kong:20260424T031531
DTSTART;TZID=Asia/Hong_Kong:20220531T000000
DTEND;TZID=Asia/Hong_Kong:20220531T000000
LOCATION:Shaw Auditorium, HKUST
SUMMARY:Cosmopolis Festival
UID:623
END:VEVENT
END:VCALENDAR