BEGIN:VCALENDAR
PRODID:-//HKUST Drupal Platform//EN
VERSION:2.0
BEGIN:VTIMEZONE
TZID:Asia/Hong_Kong
BEGIN:STANDARD
DTSTART:20071104T020000
TZOFFSETFROM:+0700
TZOFFSETTO:+0800
TZNAME:HKT
END:STANDARD
END:VTIMEZONE
BEGIN:VEVENT
DTSTAMP;TZID=Asia/Hong_Kong:20260424T050358
DTSTART;TZID=Asia/Hong_Kong:20210927T150000
DTEND;TZID=Asia/Hong_Kong:20210927T163000
LOCATION:Room 3401 (via lift 2), HKUST
SUMMARY:Career Workshop: CV Writing
UID:624
END:VEVENT
END:VCALENDAR