BEGIN:VCALENDAR
PRODID:-//HKUST Drupal Platform//EN
VERSION:2.0
BEGIN:VTIMEZONE
TZID:Asia/Hong_Kong
BEGIN:STANDARD
DTSTART:20071104T020000
TZOFFSETFROM:+0700
TZOFFSETTO:+0800
TZNAME:HKT
END:STANDARD
END:VTIMEZONE
BEGIN:VEVENT
DTSTAMP;TZID=Asia/Hong_Kong:20260425T194804
DTSTART;TZID=Asia/Hong_Kong:20211103T150000
DTEND;TZID=Asia/Hong_Kong:20211103T170000
LOCATION:Kaisa Group Lecture Theater (IAS LT), Lo Ka Chung Building, Lee Shau Kee Campus
SUMMARY:IAS Program on Chinese Creative Writing - 異向而來，同向而去一繪畫與文學的碰撞
UID:642
END:VEVENT
END:VCALENDAR