BEGIN:VCALENDAR
PRODID:-//HKUST Drupal Platform//EN
VERSION:2.0
BEGIN:VTIMEZONE
TZID:Asia/Hong_Kong
BEGIN:STANDARD
DTSTART:20071104T020000
TZOFFSETFROM:+0700
TZOFFSETTO:+0800
TZNAME:HKT
END:STANDARD
END:VTIMEZONE
BEGIN:VEVENT
DTSTAMP;TZID=Asia/Hong_Kong:20260424T172207
DTSTART;TZID=Asia/Hong_Kong:20211117T150000
DTEND;TZID=Asia/Hong_Kong:20211117T170000
LOCATION:Kaisa Group Lecture Theater (IAS LT), Lo Ka Chung Building, Lee Shau Kee Campus, HKUST
SUMMARY:IAS Program on Chinese Creative Writing - 文學還有哪些可能？
UID:643
END:VEVENT
END:VCALENDAR