BEGIN:VCALENDAR
PRODID:-//HKUST Drupal Platform//EN
VERSION:2.0
BEGIN:VTIMEZONE
TZID:Asia/Hong_Kong
BEGIN:STANDARD
DTSTART:20071104T020000
TZOFFSETFROM:+0700
TZOFFSETTO:+0800
TZNAME:HKT
END:STANDARD
END:VTIMEZONE
BEGIN:VEVENT
DTSTAMP;TZID=Asia/Hong_Kong:20260425T194804
DTSTART;TZID=Asia/Hong_Kong:20220217T000000
DTEND;TZID=Asia/Hong_Kong:20220502T235900
LOCATION: The workshop will be conducted via ZOOM  (Individual announcement of each workshop will be made shortly)
SUMMARY:港台名家系列講座 (Thursday 17 Feb 2022 - 5 May 2022 Thursday)
UID:697
END:VEVENT
END:VCALENDAR