BEGIN:VCALENDAR
PRODID:-//HKUST Drupal Platform//EN
VERSION:2.0
BEGIN:VTIMEZONE
TZID:Asia/Hong_Kong
BEGIN:STANDARD
DTSTART:20071104T020000
TZOFFSETFROM:+0700
TZOFFSETTO:+0800
TZNAME:HKT
END:STANDARD
END:VTIMEZONE
BEGIN:VEVENT
DTSTAMP;TZID=Asia/Hong_Kong:20260424T172206
DTSTART;TZID=Asia/Hong_Kong:20220217T163000
DTEND;TZID=Asia/Hong_Kong:20220217T180000
LOCATION:The workshop will be conducted via ZOOM
SUMMARY:PROGRAM ON CHINESE CREATIVE WRITING - 我的小說和我的文章 (17 Feb 2022 Thursday)
UID:698
END:VEVENT
END:VCALENDAR