BEGIN:VCALENDAR
PRODID:-//HKUST Drupal Platform//EN
VERSION:2.0
BEGIN:VTIMEZONE
TZID:Asia/Hong_Kong
BEGIN:STANDARD
DTSTART:20071104T020000
TZOFFSETFROM:+0700
TZOFFSETTO:+0800
TZNAME:HKT
END:STANDARD
END:VTIMEZONE
BEGIN:VEVENT
DTSTAMP;TZID=Asia/Hong_Kong:20260425T194804
DTSTART;TZID=Asia/Hong_Kong:20220224T163000
DTEND;TZID=Asia/Hong_Kong:20220224T180000
LOCATION: The workshop will be conducted via ZOOM
SUMMARY:因物之名——“匠”與小說創作觀 (Thursday 24 Feb 2022)
UID:699
END:VEVENT
END:VCALENDAR