BEGIN:VCALENDAR
PRODID:-//HKUST Drupal Platform//EN
VERSION:2.0
BEGIN:VTIMEZONE
TZID:Asia/Hong_Kong
BEGIN:STANDARD
DTSTART:20071104T020000
TZOFFSETFROM:+0700
TZOFFSETTO:+0800
TZNAME:HKT
END:STANDARD
END:VTIMEZONE
BEGIN:VEVENT
DTSTAMP;TZID=Asia/Hong_Kong:20260425T111615
DTSTART;TZID=Asia/Hong_Kong:20201207T120000
DTEND;TZID=Asia/Hong_Kong:20201207T133000
SUMMARY:Academic Freedom and the NSL: the Role of International Human Rights Law (Monday 7 December, 2020)
UID:7
END:VEVENT
END:VCALENDAR