BEGIN:VCALENDAR
PRODID:-//HKUST Drupal Platform//EN
VERSION:2.0
BEGIN:VTIMEZONE
TZID:Asia/Hong_Kong
BEGIN:STANDARD
DTSTART:20071104T020000
TZOFFSETFROM:+0700
TZOFFSETTO:+0800
TZNAME:HKT
END:STANDARD
END:VTIMEZONE
BEGIN:VEVENT
DTSTAMP;TZID=Asia/Hong_Kong:20260424T172206
DTSTART;TZID=Asia/Hong_Kong:20220309T090000
DTEND;TZID=Asia/Hong_Kong:20220309T103000
LOCATION:he seminar will be conduct via ZOOM
SUMMARY:Learning tone category and tone word in second language: A ‘messy’ picture for tonal and non-tonal language speakers (Wednesday 9 Mar 2022)
UID:701
END:VEVENT
END:VCALENDAR