BEGIN:VCALENDAR
PRODID:-//HKUST Drupal Platform//EN
VERSION:2.0
BEGIN:VTIMEZONE
TZID:Asia/Hong_Kong
BEGIN:STANDARD
DTSTART:20071104T020000
TZOFFSETFROM:+0700
TZOFFSETTO:+0800
TZNAME:HKT
END:STANDARD
END:VTIMEZONE
BEGIN:VEVENT
DTSTAMP;TZID=Asia/Hong_Kong:20260425T034731
DTSTART;TZID=Asia/Hong_Kong:20220317T163000
DTEND;TZID=Asia/Hong_Kong:20220317T183000
LOCATION:會議帳號: 921 0478 6190 ; 密碼: 120 205
SUMMARY:奢侈的實踐：小說與形式 (董啟章)	/香港音與香港字︰一個文學現實 (黃念欣) （Thursday 17 Mar 2022)
UID:703
END:VEVENT
END:VCALENDAR