BEGIN:VCALENDAR
PRODID:-//HKUST Drupal Platform//EN
VERSION:2.0
BEGIN:VTIMEZONE
TZID:Asia/Hong_Kong
BEGIN:STANDARD
DTSTART:20071104T020000
TZOFFSETFROM:+0700
TZOFFSETTO:+0800
TZNAME:HKT
END:STANDARD
END:VTIMEZONE
BEGIN:VEVENT
DTSTAMP;TZID=Asia/Hong_Kong:20260423T174541
DTSTART;TZID=Asia/Hong_Kong:20220324T163000
DTEND;TZID=Asia/Hong_Kong:20220324T180000
LOCATION:會議帳號: 921 0478 6190 ; 密碼: 120 205
SUMMARY:PROGRAM ON CHINESE CREATIVE WRITING  - 論寫作(24 Mar 2022 Thursday)
UID:705
END:VEVENT
END:VCALENDAR