BEGIN:VCALENDAR
PRODID:-//HKUST Drupal Platform//EN
VERSION:2.0
BEGIN:VTIMEZONE
TZID:Asia/Hong_Kong
BEGIN:STANDARD
DTSTART:20071104T020000
TZOFFSETFROM:+0700
TZOFFSETTO:+0800
TZNAME:HKT
END:STANDARD
END:VTIMEZONE
BEGIN:VEVENT
DTSTAMP;TZID=Asia/Hong_Kong:20260425T034731
DTSTART;TZID=Asia/Hong_Kong:20220402T163000
DTEND;TZID=Asia/Hong_Kong:20220402T180000
LOCATION:會議帳號: 921 0478 6190 ; 密碼: 120 205
SUMMARY:作為一種\"地方文學“的馬華文學的存在感和延宕的獨特性焦慮 (Saturday 2 Apr 2022)
UID:706
END:VEVENT
END:VCALENDAR