BEGIN:VCALENDAR
PRODID:-//HKUST Drupal Platform//EN
VERSION:2.0
BEGIN:VTIMEZONE
TZID:Asia/Hong_Kong
BEGIN:STANDARD
DTSTART:20071104T020000
TZOFFSETFROM:+0700
TZOFFSETTO:+0800
TZNAME:HKT
END:STANDARD
END:VTIMEZONE
BEGIN:VEVENT
DTSTAMP;TZID=Asia/Hong_Kong:20260424T030211
DTSTART;TZID=Asia/Hong_Kong:20220411T163000
DTEND;TZID=Asia/Hong_Kong:20220411T180000
SUMMARY: [Nexus: Belonging Research Network] - A student-led open dialogue: Belonging in the University (Monday 11 Apr 2022)
UID:709
END:VEVENT
END:VCALENDAR