BEGIN:VCALENDAR
PRODID:-//HKUST Drupal Platform//EN
VERSION:2.0
BEGIN:VTIMEZONE
TZID:Asia/Hong_Kong
BEGIN:STANDARD
DTSTART:20071104T020000
TZOFFSETFROM:+0700
TZOFFSETTO:+0800
TZNAME:HKT
END:STANDARD
END:VTIMEZONE
BEGIN:VEVENT
DTSTAMP;TZID=Asia/Hong_Kong:20260423T144857
DTSTART;TZID=Asia/Hong_Kong:20220412T120000
DTEND;TZID=Asia/Hong_Kong:20220412T133000
SUMMARY:新詩的境界問題 （Tuesday 12 Apr 2022)
UID:711
END:VEVENT
END:VCALENDAR