BEGIN:VCALENDAR
PRODID:-//HKUST Drupal Platform//EN
VERSION:2.0
BEGIN:VTIMEZONE
TZID:Asia/Hong_Kong
BEGIN:STANDARD
DTSTART:20071104T020000
TZOFFSETFROM:+0700
TZOFFSETTO:+0800
TZNAME:HKT
END:STANDARD
END:VTIMEZONE
BEGIN:VEVENT
DTSTAMP;TZID=Asia/Hong_Kong:20260423T132331
DTSTART;TZID=Asia/Hong_Kong:20220423T000000
DTEND;TZID=Asia/Hong_Kong:20220423T235900
LOCATION:Remarks : Zoom Meeting ID: 927 3012 2977; Passcode: 952 904
SUMMARY:Buddhist Theories of Mind and Metaphysics (Saturday 23 Apr 2022)
UID:713
END:VEVENT
END:VCALENDAR