BEGIN:VCALENDAR
PRODID:-//HKUST Drupal Platform//EN
VERSION:2.0
BEGIN:VTIMEZONE
TZID:Asia/Hong_Kong
BEGIN:STANDARD
DTSTART:20071104T020000
TZOFFSETFROM:+0700
TZOFFSETTO:+0800
TZNAME:HKT
END:STANDARD
END:VTIMEZONE
BEGIN:VEVENT
DTSTAMP;TZID=Asia/Hong_Kong:20260423T131351
DTSTART;TZID=Asia/Hong_Kong:19700101T080000
DTEND;TZID=Asia/Hong_Kong:20220428T060000
LOCATION:會議帳號: 921 0478 6190 ; 密碼: 120 205
SUMMARY:如果文學很簡單，我們也不用這麼辛苦 (Thursday 28 Apr 2022)
UID:715
END:VEVENT
END:VCALENDAR