BEGIN:VCALENDAR
PRODID:-//HKUST Drupal Platform//EN
VERSION:2.0
BEGIN:VTIMEZONE
TZID:Asia/Hong_Kong
BEGIN:STANDARD
DTSTART:20071104T020000
TZOFFSETFROM:+0700
TZOFFSETTO:+0800
TZNAME:HKT
END:STANDARD
END:VTIMEZONE
BEGIN:VEVENT
DTSTAMP;TZID=Asia/Hong_Kong:20260423T131351
DTSTART;TZID=Asia/Hong_Kong:19700101T080000
DTEND;TZID=Asia/Hong_Kong:20220505T060000
LOCATION:會議帳號: 921 0478 6190 ; 密碼: 120 205
SUMMARY:海洋作為中介：夏曼．藍波安近作中的達悟尊嚴追尋與跨原住民游牧學 (Thursday 5 May 2022)
UID:716
END:VEVENT
END:VCALENDAR