BEGIN:VCALENDAR
PRODID:-//HKUST Drupal Platform//EN
VERSION:2.0
BEGIN:VTIMEZONE
TZID:Asia/Hong_Kong
BEGIN:STANDARD
DTSTART:20071104T020000
TZOFFSETFROM:+0700
TZOFFSETTO:+0800
TZNAME:HKT
END:STANDARD
END:VTIMEZONE
BEGIN:VEVENT
DTSTAMP;TZID=Asia/Hong_Kong:20260423T131351
DTSTART;TZID=Asia/Hong_Kong:19700101T080000
DTEND;TZID=Asia/Hong_Kong:19700101T080000
LOCATION:Meeting ID - 936 7665 9245 | Passcode - 20220526
SUMMARY:Nexus: Belonging Research Network Belonging in Troubling Times: Hong Kong as a Diverse Home for Hopes (Thursday 26 May 2022)
UID:722
END:VEVENT
END:VCALENDAR