BEGIN:VCALENDAR
PRODID:-//HKUST Drupal Platform//EN
VERSION:2.0
BEGIN:VTIMEZONE
TZID:Asia/Hong_Kong
BEGIN:STANDARD
DTSTART:20071104T020000
TZOFFSETFROM:+0700
TZOFFSETTO:+0800
TZNAME:HKT
END:STANDARD
END:VTIMEZONE
BEGIN:VEVENT
DTSTAMP;TZID=Asia/Hong_Kong:20260423T131351
DTSTART;TZID=Asia/Hong_Kong:20220620T143000
DTEND;TZID=Asia/Hong_Kong:20220620T170000
LOCATION:Online
SUMMARY:The Theory of Zhi and Genetic Epistemology in Pre-Qin Confucianism (Monday 20 June 2022)
UID:723
END:VEVENT
END:VCALENDAR