BEGIN:VCALENDAR
PRODID:-//HKUST Drupal Platform//EN
VERSION:2.0
BEGIN:VTIMEZONE
TZID:Asia/Hong_Kong
BEGIN:STANDARD
DTSTART:20071104T020000
TZOFFSETFROM:+0700
TZOFFSETTO:+0800
TZNAME:HKT
END:STANDARD
END:VTIMEZONE
BEGIN:VEVENT
DTSTAMP;TZID=Asia/Hong_Kong:20260423T113419
DTSTART;TZID=Asia/Hong_Kong:20220622T150000
DTEND;TZID=Asia/Hong_Kong:20220622T180000
LOCATION:Online
SUMMARY:Chinese Renaissance” as a Method: Literary Renovation and Intellectual Debates in China, 1915-1949 (Wednesday 22 June 2022)
UID:724
END:VEVENT
END:VCALENDAR