BEGIN:VCALENDAR
PRODID:-//HKUST Drupal Platform//EN
VERSION:2.0
BEGIN:VTIMEZONE
TZID:Asia/Hong_Kong
BEGIN:STANDARD
DTSTART:20071104T020000
TZOFFSETFROM:+0700
TZOFFSETTO:+0800
TZNAME:HKT
END:STANDARD
END:VTIMEZONE
BEGIN:VEVENT
DTSTAMP;TZID=Asia/Hong_Kong:20260423T113419
DTSTART;TZID=Asia/Hong_Kong:20220802T000000
DTEND;TZID=Asia/Hong_Kong:20220802T235900
SUMMARY:A Philosophical and Idea-Historical Examination of the Cultivation of the Self in Kiyozawa Manshi (2 August 2022 Tuesday) 
UID:731
END:VEVENT
END:VCALENDAR