BEGIN:VCALENDAR
PRODID:-//HKUST Drupal Platform//EN
VERSION:2.0
BEGIN:VTIMEZONE
TZID:Asia/Hong_Kong
BEGIN:STANDARD
DTSTART:20071104T020000
TZOFFSETFROM:+0700
TZOFFSETTO:+0800
TZNAME:HKT
END:STANDARD
END:VTIMEZONE
BEGIN:VEVENT
DTSTAMP;TZID=Asia/Hong_Kong:20260423T113420
DTSTART;TZID=Asia/Hong_Kong:20220812T160000
DTEND;TZID=Asia/Hong_Kong:19700101T080000
LOCATION:Online
SUMMARY:A Century of Avant Garde to Hype Beast Art Collecting and Collectors: Examining Theoretical Elements and Global Shifts in the United States and the Fluid Evolution to East Asia (12Aug2022 Friday)
UID:738
END:VEVENT
END:VCALENDAR