BEGIN:VCALENDAR
PRODID:-//HKUST Drupal Platform//EN
VERSION:2.0
BEGIN:VTIMEZONE
TZID:Asia/Hong_Kong
BEGIN:STANDARD
DTSTART:20071104T020000
TZOFFSETFROM:+0700
TZOFFSETTO:+0800
TZNAME:HKT
END:STANDARD
END:VTIMEZONE
BEGIN:VEVENT
DTSTAMP;TZID=Asia/Hong_Kong:20260423T093947
DTSTART;TZID=Asia/Hong_Kong:20220928T150000
DTEND;TZID=Asia/Hong_Kong:20220928T180000
LOCATION:Room 3391 UG Commons (Lift 17-18)
SUMMARY:Handmade Leather Passport Holder Workshop
UID:740
END:VEVENT
END:VCALENDAR