BEGIN:VCALENDAR
PRODID:-//HKUST Drupal Platform//EN
VERSION:2.0
BEGIN:VTIMEZONE
TZID:Asia/Hong_Kong
BEGIN:STANDARD
DTSTART:20071104T020000
TZOFFSETFROM:+0700
TZOFFSETTO:+0800
TZNAME:HKT
END:STANDARD
END:VTIMEZONE
BEGIN:VEVENT
DTSTAMP;TZID=Asia/Hong_Kong:20260423T113420
DTSTART;TZID=Asia/Hong_Kong:20220831T103000
DTEND;TZID=Asia/Hong_Kong:20220831T120000
LOCATION:Room 3301 (Lift 2 or Lifts 17-18), 3/F Academic Building, HKUST
SUMMARY:Maintaining a \'Little Thailand\': A Study of Thai Domestic Helpers in Kowloon City, Hong Kong (Wednesday 31Aug2022)
UID:741
END:VEVENT
END:VCALENDAR