BEGIN:VCALENDAR
PRODID:-//HKUST Drupal Platform//EN
VERSION:2.0
BEGIN:VTIMEZONE
TZID:Asia/Hong_Kong
BEGIN:STANDARD
DTSTART:20071104T020000
TZOFFSETFROM:+0700
TZOFFSETTO:+0800
TZNAME:HKT
END:STANDARD
END:VTIMEZONE
BEGIN:VEVENT
DTSTAMP;TZID=Asia/Hong_Kong:20260423T094044
DTSTART;TZID=Asia/Hong_Kong:20221006T100000
DTEND;TZID=Asia/Hong_Kong:20221006T113000
LOCATION:Room 3401
SUMMARY:Powerful CV and Cover Letter Writing Workshop & Basic LinkedIn Profile Building
UID:744
END:VEVENT
END:VCALENDAR