BEGIN:VCALENDAR
PRODID:-//HKUST Drupal Platform//EN
VERSION:2.0
BEGIN:VTIMEZONE
TZID:Asia/Hong_Kong
BEGIN:STANDARD
DTSTART:20071104T020000
TZOFFSETFROM:+0700
TZOFFSETTO:+0800
TZNAME:HKT
END:STANDARD
END:VTIMEZONE
BEGIN:VEVENT
DTSTAMP;TZID=Asia/Hong_Kong:20260423T223210
DTSTART;TZID=Asia/Hong_Kong:20221011T180000
DTEND;TZID=Asia/Hong_Kong:20221011T190000
LOCATION:Room 3401
SUMMARY:2022 SHSS Student Ambassador Scheme Information Session
UID:747
END:VEVENT
END:VCALENDAR