BEGIN:VCALENDAR
PRODID:-//HKUST Drupal Platform//EN
VERSION:2.0
BEGIN:VTIMEZONE
TZID:Asia/Hong_Kong
BEGIN:STANDARD
DTSTART:20071104T020000
TZOFFSETFROM:+0700
TZOFFSETTO:+0800
TZNAME:HKT
END:STANDARD
END:VTIMEZONE
BEGIN:VEVENT
DTSTAMP;TZID=Asia/Hong_Kong:20260423T113420
DTSTART;TZID=Asia/Hong_Kong:20221025T070000
DTEND;TZID=Asia/Hong_Kong:20221025T210000
LOCATION:李兆基校園盧家驄薈萃樓 佳兆業集團演講廳 （高研院演講廳）
SUMMARY:Program on Chinese Creative Writing / 中國文學創作研究專題：幾度斜暉 — 蘇東坡
UID:748
END:VEVENT
END:VCALENDAR