BEGIN:VCALENDAR
PRODID:-//HKUST Drupal Platform//EN
VERSION:2.0
BEGIN:VTIMEZONE
TZID:Asia/Hong_Kong
BEGIN:STANDARD
DTSTART:20071104T020000
TZOFFSETFROM:+0700
TZOFFSETTO:+0800
TZNAME:HKT
END:STANDARD
END:VTIMEZONE
BEGIN:VEVENT
DTSTAMP;TZID=Asia/Hong_Kong:20260423T113420
DTSTART;TZID=Asia/Hong_Kong:20221118T053000
DTEND;TZID=Asia/Hong_Kong:19700101T080000
LOCATION:Room 3401 (Lift 2 or Lifts 17-18), 3/F Academic Building, HKUST
SUMMARY:A Playful Pastiche: Gao Xiong and His Youxi Literature in Post-war Hong Kong
UID:754
END:VEVENT
END:VCALENDAR