BEGIN:VCALENDAR
PRODID:-//HKUST Drupal Platform//EN
VERSION:2.0
BEGIN:VTIMEZONE
TZID:Asia/Hong_Kong
BEGIN:STANDARD
DTSTART:20071104T020000
TZOFFSETFROM:+0700
TZOFFSETTO:+0800
TZNAME:HKT
END:STANDARD
END:VTIMEZONE
BEGIN:VEVENT
DTSTAMP;TZID=Asia/Hong_Kong:20260423T113419
DTSTART;TZID=Asia/Hong_Kong:19700101T080000
DTEND;TZID=Asia/Hong_Kong:19700101T080000
LOCATION:李兆基校園盧家驄薈萃樓 佳兆業集團演講廳（高研院演講廳）
SUMMARY:中國文學創作研究專題：鏡頭敘述的文學性 — 與韓國導演張喆洙對話及《金福南殺人事件始末》電影放映
UID:759
END:VEVENT
END:VCALENDAR